BEGIN:VCALENDAR
VERSION:2.0
PRODID:-//Stadtgeschichte München//DE
CALSCALE:GREGORIAN
BEGIN:VEVENT
UID:2101@stadtgeschichte-muenchen.de
SUMMARY:Durch die Parkanlage des Isar-Amper-Klinikums München Ost
DESCRIPTION:&lt;div&gt;Die Geschichte des Isar-Amper-Klinikums, Klinikum M&amp;uuml;nchen-Ost (ehemals Bezirkskrankenhaus Haar), beginnt im 18./19. Jahrhundert, wo&amp;nbsp;man sogenannte Irre und Wahnsinnige in &amp;bdquo;Narrenkeuchen&amp;quot; hinter dem ehemaligen Heilig-Geist-Spital am Viktualienmarkt verwahrte. Das&amp;nbsp;Krankenhaus Haar wurde in zwei Bauabschnitten bis 1905 bzw. 1912 auf einer Fl&amp;auml;che von 95 ha erbaut. Der Bauabschnitt Eglfing (heute&amp;nbsp;Haar l) mit weitl&amp;auml;ufiger Parkanlage im Landhausstil bietet Platz f&amp;uuml;r etwa 1000 psychisch kranke Menschen. Auf dem Gel&amp;auml;nde befinden&amp;nbsp;sich au&amp;szlig;erdem eine katholische und evangelische Kirche sowie das Denkmal f&amp;uuml;r die im Nationalsozialismus deportierten psychisch kranken&amp;nbsp;Menschen. Im Bauabschnitt Haar II befinden sich viele Stationen in modernisierten denkmalgesch&amp;uuml;tzten Jugendstilbauten und die&amp;nbsp;einzigartige Jugendstilkirche des Architekten Richard Neithart.&lt;/div&gt;
DTSTART:20120707T150000
DTEND:20120707T180000
LOCATION:an der neuen Einfahrt Haar l, Verwaltungsgebäude 
ORGANIZER:MVHS München Mitte   
END:VEVENT
END:VCALENDAR