BEGIN:VCALENDAR
VERSION:2.0
PRODID:-//Stadtgeschichte München//DE
CALSCALE:GREGORIAN
BEGIN:VEVENT
UID:21027@stadtgeschichte-muenchen.de
SUMMARY:Die Ensembles Villenkolonie Neuwittelsbach und Neuhausen
DESCRIPTION:&lt;p&gt;Die nebeneinanderliegenden Bereiche des Villenquartiers Neuwittelsbach und die benachbarte Siedlung Neuhausen sind von den Wohnformen und den städtebaulichen Grundsätzen sehr verschiedene Anlagen. Die Ende des 19. Jahrhunderts angelegte Villenbebauung fußt auf den Ideen eines großbürgerlichen Wohnens im Grünen, die in den späten 1920er Jahren errichtete Siedlung setzt gemeinnützige Ideen baulich um. In dem etwa einstündigen Rundgang erfahren Sie mehr über die Geschichte und die gestalterischen Prinzipien der Villenkolonie.&lt;/p&gt; &lt;p&gt;In Kooperation mit dem Bayerischen Landesamt für Denkmalpflege&lt;/p&gt; 
DTSTART:20220519T170000
DTEND:20220519T180000
LOCATION:Rondell Neuwittelsbach, Mitte
ORGANIZER:MVHS
END:VEVENT
END:VCALENDAR