BEGIN:VCALENDAR
VERSION:2.0
PRODID:-//Stadtgeschichte München//DE
CALSCALE:GREGORIAN
BEGIN:VEVENT
UID:21029@stadtgeschichte-muenchen.de
SUMMARY:Stadtspaziergang mit spannenden Geschichten und &quot;Insidertipps&quot; - vom Marienplatz
DESCRIPTION:&lt;p&gt;Ein abendlicher Altstadtrundgang zu historischen Gebäuden und moderner Architektur. Lauschen Sie den spannenden Geschichten der Bauherr*innen und Bewohner*innen. Passagen, bezaubernde Innenhöfe und schöne Geschäfte gibt es zu entdecken. Bei unserem Nachtwalk schauen wir in interessante Lokale, angesagte Bars und Treffpunkte. Sie bekommen Ausgehtipps, Ideen für den nächsten &quot;Nachtausflug&quot; oder einfach Lust zu weiteren Stadterkundungen.&lt;/p&gt; 
DTSTART:20220623T183000
DTEND:20220623T203000
LOCATION:Marienplatz, am Fischbrunnen
ORGANIZER:MVHS
END:VEVENT
END:VCALENDAR