BEGIN:VCALENDAR
VERSION:2.0
PRODID:-//Stadtgeschichte München//DE
CALSCALE:GREGORIAN
BEGIN:VEVENT
UID:21032@stadtgeschichte-muenchen.de
SUMMARY:Vive la Bavière! Auf den Spuren bayerisch-französischer Beziehungen und ihr Einfluss auf M
DESCRIPTION:&lt;p&gt;Erleben Sie überraschende Einblicke hinter die Fassaden unserer Stadt. Liebe und Kalkül, Hass und Rivalität sind häufig Triebfedern erfolgs- und spannungsreicher Beziehungen: Die Schwiegermutter des Stadtgründers Heinrich des Löwen, ein französischer Heiliger als Schutzpatron der Wittelsbacher, eine französische Prinzessin im Glockenspiel und natürlich Napoleon und Josephine sind nur einige der Persönlichkeiten, denen wir auf diesem Spaziergang begegnen werden.&lt;/p&gt; 
DTSTART:20220709T140000
DTEND:20220709T153000
LOCATION:am Löwenturm, Rindermarkt
ORGANIZER:MVHS
END:VEVENT
END:VCALENDAR