BEGIN:VCALENDAR
VERSION:2.0
PRODID:-//Stadtgeschichte München//DE
CALSCALE:GREGORIAN
BEGIN:VEVENT
UID:21040@stadtgeschichte-muenchen.de
SUMMARY:Jugendstil und Historismus in der Maxvorstadt
DESCRIPTION:&lt;p&gt;Kunst und Architektur erlebten um 1900 in der Maxvorstadt eine Blütezeit. Hier lebten und arbeiteten Künstler wie Wassily Kandinsky, Paul Klee und Franz Marc oder Schriftsteller wie Stefan George, Rainer Maria Rilke sowie Heinrich und Thomas Mann. Die von 1896--1940 in München erschienene Zeitschrift &quot;Jugend&quot; diente als Namensgeber für den Jugendstil in Deutschland. Der Rundgang führt an wunderschönen Jugendstil- und Historismus-Fassaden vorbei und lässt diese faszinierende Zeit wieder auferstehen.&lt;/p&gt; 
DTSTART:20220910T140000
DTEND:20220910T153000
LOCATION:U-Bahnhof Universität, Ecke Adalbertstr./Ludwigstr.
ORGANIZER:MVHS
END:VEVENT
END:VCALENDAR