BEGIN:VCALENDAR
VERSION:2.0
PRODID:-//Stadtgeschichte München//DE
CALSCALE:GREGORIAN
BEGIN:VEVENT
UID:21057@stadtgeschichte-muenchen.de
SUMMARY:Bei den Mönchen - wer findet das Münchner Kindl?
DESCRIPTION:&lt;p&gt;Was hat der Name &quot;München&quot; mit &quot;Mönchen&quot; zu tun? Und was hat überhaupt das Münchner Kindl im Stadtwappen zu bedeuten? In der Altstadt kann man das Motiv überall entdecken: auf Turmspitzen, auf Glasfenstern, auf Kanaldeckeln, an Häuserecken ... Wer findet die meisten? Und gibt es heute noch echte Mönche in der Stadt?&lt;/p&gt; 
DTSTART:20220702T144500
DTEND:20220702T161500
LOCATION:Jagd- und Fischereimuseum, Neuhauser Str. 2
ORGANIZER:MVHS
END:VEVENT
END:VCALENDAR