BEGIN:VCALENDAR
VERSION:2.0
PRODID:-//Stadtgeschichte München//DE
CALSCALE:GREGORIAN
BEGIN:VEVENT
UID:21064@stadtgeschichte-muenchen.de
SUMMARY:Otl Aicher: Begründer einer &quot;Anderen Moderne&quot;
DESCRIPTION:&lt;p&gt;Der Kommunikationsdesigner Otl Aicher (1922-1991) prägte nicht nur das Erscheinungsbild der Olympischen Spiele 1972, er schuf auch die Corporate Identity der Lufthansa, des ZDF oder der Firma Braun. Bekannt sind seine vollständig neuartigen, revolutionären, für jedermann gut verständlichen Piktogramme für die Münchner Olympiade. Er war Mitbegründer der &quot;hochschule für gestaltung ulm&quot; (1953-1968), einer der wichtigsten Schulen für Design in der Nachfolge des Bauhauses.&lt;/p&gt; &lt;p&gt;In Kooperation mit dem Münchner Stadtmuseum&lt;/p&gt; 
DTSTART:20220727T180000
DTEND:20220727T193000
LOCATION:Einstein 28
ORGANIZER:MVHS
END:VEVENT
END:VCALENDAR