BEGIN:VCALENDAR
VERSION:2.0
PRODID:-//Stadtgeschichte München//DE
CALSCALE:GREGORIAN
BEGIN:VEVENT
UID:21067@stadtgeschichte-muenchen.de
SUMMARY:Historische Schauplätze in München
DESCRIPTION:&lt;p&gt;Das Kunstareal München ist eine öffentliche Schatzkammer in der Maxvorstadt, seine Architektur und Geschichte sind beeindruckend. Es ist eine der weltweit größten räumlichen Ansammlungen von Kunst, Kultur und Wissen. Rund um Königsplatz und Pinakotheken gibt es 18 Museen, 6 Hochschulen und mehr als 40 Galerien. Auch die Bauwerke, Plätze und Straßen an Odeonsplatz, Ludwigstraße und Hofgarten prägen bis heute das historische Bild der Stadt. Als Architekturikone wurde der BMW-Turm mit Museum und BMW-Welt weit über München hinaus bekannt.&lt;/p&gt; 
DTSTART:20220509T190000
DTEND:20220509T203000
LOCATION:Online
ORGANIZER:MVHS
END:VEVENT
END:VCALENDAR