BEGIN:VCALENDAR
VERSION:2.0
PRODID:-//Stadtgeschichte München//DE
CALSCALE:GREGORIAN
BEGIN:VEVENT
UID:21076@stadtgeschichte-muenchen.de
SUMMARY:Auf den Spuren von Franziska zu Reventlow
DESCRIPTION:&lt;p&gt;Das Leben der bekannten Schriftstellerin währte so lange wie das deutsche Kaiserreich, heißt es. Hatte das wirklich etwas mit ihr zu tun? Auf diesem literarischen Spaziergang besuchen wir einige Stationen des bemerkenswerten Lebens und Wirkens der Fanny zu Reventlow in der Maxvorstadt bzw. Schwabing, beschäftigen uns mit Persönlichkeiten, ohne die ihr Leben ganz anders verlaufen wäre, und betrachten ihr schriftstellerisches Werk.&lt;/p&gt; 
DTSTART:20220707T160000
DTEND:20220707T180000
LOCATION:Akademiestr./Ecke Türkenstr.
ORGANIZER:MVHS
END:VEVENT
END:VCALENDAR