BEGIN:VCALENDAR
VERSION:2.0
PRODID:-//Stadtgeschichte München//DE
CALSCALE:GREGORIAN
BEGIN:VEVENT
UID:21105@stadtgeschichte-muenchen.de
SUMMARY:Die Münchner Frauenkirche
DESCRIPTION:&lt;p&gt;Bei einem Rundgang durch die Frauenkirche entdecken Sie Dinge, die viele Tourist*innen meist übersehen. Und manche Kunstwerke lassen Sie schlichtweg staunen. Dabei stellen wir interessante Bezüge zur Münchner Stadtgeschichte her. Lassen Sie sich überraschen!&lt;/p&gt; 
DTSTART:20220413T113000
DTEND:20220413T130000
LOCATION:Frauenkirche (Dom), Hauptportal, Frauenplatz 1
ORGANIZER:MVHS
END:VEVENT
END:VCALENDAR