BEGIN:VCALENDAR
VERSION:2.0
PRODID:-//Stadtgeschichte München//DE
CALSCALE:GREGORIAN
BEGIN:VEVENT
UID:21106@stadtgeschichte-muenchen.de
SUMMARY:Vollmond bei der Bavaria
DESCRIPTION:&lt;p&gt;Während Sie auf den Stufen unter der Bavaria sitzen und auf den Mond warten, erklärt Marco Sproviero unseren Trabanten. Wie entstehen Mondphasen? Warum geht der Mond jeden Tag woanders auf? Wie kommt es zu Mond- und Sonnenfinsternissen? Während Sie den Geschichten zur Erforschung unseres ständigen Begleiters lauschen, geht dieser voll erleuchtet über der Theresienwiese auf. Der Blick durch das Teleskop zeigt, was der &quot;Mann im Mond&quot; wirklich ist.&lt;/p&gt; 
DTSTART:20220416T193000
DTEND:20220416T210000
LOCATION:am Fuß der Bavaria, Theresienwiese
ORGANIZER:MVHS
END:VEVENT
END:VCALENDAR