BEGIN:VCALENDAR
VERSION:2.0
PRODID:-//Stadtgeschichte München//DE
CALSCALE:GREGORIAN
BEGIN:VEVENT
UID:21108@stadtgeschichte-muenchen.de
SUMMARY:Neue Kaffee-Kultur in München
DESCRIPTION:&lt;p&gt;Das Kaffeehaus - früher das &quot;bessere Wohnzimmer&quot; und traditionell der Ort, wo kluge Köpfe, Schöngeister und Weltverbesserer zusammenkamen. Der Genuss des schwarzen Heißgetränks inspirierte die Sinne, regte den Gedankenfluss und -austausch an. Über München duftete schon immer eine italienische Kaffeewolke. Bei Cappuccino und Espresso ging es auch um Sehen und Gesehen werden. Warum und vor allem wo trifft man sich heute? Andere Orte und Konzepte locken die Gäste und selbst &quot;Café-Ikonen&quot; gehen mit dem Zeitgeist, wie dieser Streifzug durch die &quot;Café-Szene&quot; zeigt.&lt;/p&gt; 
DTSTART:20220524T160000
DTEND:20220524T180000
LOCATION:Tor zum Hofgarten, Odeonsplatz
ORGANIZER:MVHS
END:VEVENT
END:VCALENDAR