BEGIN:VCALENDAR
VERSION:2.0
PRODID:-//Stadtgeschichte München//DE
CALSCALE:GREGORIAN
BEGIN:VEVENT
UID:21110@stadtgeschichte-muenchen.de
SUMMARY:Münchner Küche - Kulinarische Besonderheiten und ihre Geschichte(n)
DESCRIPTION:&lt;p&gt;Die bayerische Küche ist nicht gerade bekannt für Leichtigkeit und Raffinesse. Am Tisch wird deftig geschlemmt, auf festlichen Kaffeetafeln reihen sich butterschwere Torten und schmalzreiches Gebäck hintereinander. Ihrer Beliebtheit tut das beileibe keinen Abbruch. Im Gegenteil: Die herzhaften und süßen Köstlichkeiten finden sich auf Speisekarten unter dem liebevollen Begriff &quot;Schmankerl&quot;. Wir lernen auf diesem Rundgang den Unterschied zwischen bayerischen und Münchner Gerichten kennen und werden mit Staunen erfahren, dass eine beliebte bayerische Brotzeit ganz woanders herkommt.&lt;/p&gt; 
DTSTART:20220629T120000
DTEND:20220629T140000
LOCATION:Heilig-Geist-Kirche (Eingang auf Seite zum Viktualienmarkt)
ORGANIZER:MVHS
END:VEVENT
END:VCALENDAR