BEGIN:VCALENDAR
VERSION:2.0
PRODID:-//Stadtgeschichte München//DE
CALSCALE:GREGORIAN
BEGIN:VEVENT
UID:21144@stadtgeschichte-muenchen.de
SUMMARY:Demokratie 2022 - wie kann ich mich beteiligen?
DESCRIPTION:&lt;p&gt;Demokratie heißt, sich in die eigenen Angelegenheiten einzumischen, schrieb Max Frisch. Ist Wählengehen alles, was wir tun können? Auf keinen Fall. Die zweistündige Tour führt uns an Regierungsorte und klärt interaktiv auf über unsere vielen Möglichkeiten, mitzuwirken. Wir treffen eine(n) Politikerin, stellen uns einer alternativen Oberbürgermeister-Wahl und organisieren unsere eigene Demonstration.&lt;br /&gt; Am Gedenktag der Ermordung von Kurt Eisner am 21.02.1919 - einem Pazifisten, der den Freistaat ausrief und so mitwirkte, Bayern zur Demokratie zu wandeln.&lt;/p&gt; 
DTSTART:20220221T130000
DTEND:20220221T150000
LOCATION:Marienplatz, am Spielzeugmuseum im Turm des Alten Rathauses. Endpunkt Ecke Salvator- / Theatinerstraße.
ORGANIZER:DGB-Bildungswerk Bayern e.V. Region München
END:VEVENT
END:VCALENDAR