BEGIN:VCALENDAR
VERSION:2.0
PRODID:-//Stadtgeschichte München//DE
CALSCALE:GREGORIAN
BEGIN:VEVENT
UID:21152@stadtgeschichte-muenchen.de
SUMMARY:Kirche, Arbeiterschaft, Bürgertum, Revolution
DESCRIPTION:&lt;p&gt;Hexen und Beginen, Mönche, Herzoge und Könige, Bürgerliche, Arbeiterinnen und Arbeiter, Revolutionärinnen und Revolutionäre, Reaktionäre und Rechte: Die Einwohnerschaft Münchens setzte sich seit jeher aus den unterschiedlichsten Bevölkerungsgruppen zusammen. Diese Führung wirft Schlaglichter auf die verschiedensten Lebenswelten der Münchnerinnen und Münchner über die Jahrhunderte und geht dabei insbesondere der Frage nach, inwieweit sich die Lebens- und Arbeitsbedingungen von Frauen und Männern - zwischen, aber auch innerhalb derselben Schichten - unterschieden.&lt;/p&gt; 
DTSTART:20220519T170000
DTEND:20220519T190000
LOCATION:Marienplatz, Fischbrunnen
ORGANIZER:DGB-Bildungswerk Bayern e.V. Region München
END:VEVENT
END:VCALENDAR