BEGIN:VCALENDAR
VERSION:2.0
PRODID:-//Stadtgeschichte München//DE
CALSCALE:GREGORIAN
BEGIN:VEVENT
UID:21175@stadtgeschichte-muenchen.de
SUMMARY:Das Wiesenviertel
DESCRIPTION:&lt;p&gt;Das Wiesenviertel gehört mit der dominanten St. Paulskiche zu den gelungensten Stadterweiterungen Münchens. Dort entstanden in der zweiten Hälfte des 19. Jahrhunderts besonders prachtvolle Villen und Wohnhäuser in allen damals modernen Stilrichtungen nach Plänen der damals berühmtesten Münchner Architekten wie Gabriel und Emanuel v. Seidel, Karl Hocheder, Georg Hauberrisser usw. Die aufgelockerte Bauweise bietet eine bei Neuplanungen in der Innenstadt heute kaum noch zu findende Lebensqualität. Während der letzten Jahrzehnte sind allerdings viele dieser Bauten abgerissen oder bis zur Unkenntlichkeit „renoviert“ worden.&lt;/p&gt; 
DTSTART:20220410T130000
DTEND:20220410T150000
LOCATION:U-Bahn Theresienwiese, Ausgang St. Pauls-Platz A064-
ORGANIZER:DGB-Bildungswerk Bayern e.V. Region München
END:VEVENT
END:VCALENDAR