BEGIN:VCALENDAR
VERSION:2.0
PRODID:-//Stadtgeschichte München//DE
CALSCALE:GREGORIAN
BEGIN:VEVENT
UID:21177@stadtgeschichte-muenchen.de
SUMMARY:Stachus und Lenbachplatz mit Bernheimer-Haus
DESCRIPTION:&lt;p&gt;Zu seiner Zeit galt das 1887-89 erbaute Bernheimer-Haus als „künstlerisch bedeutendster Privatbau Münchens“. Geplant von F. Thiersch, dem Schöpfer des Justizpalastes, überließ dieser seinem Schüler Martin Dülfer die Gestaltung der Hauptfassade zum Lenbachplatz, der dort sein erstes Münchner Werk in Formen des Neubarock gestalteten durfte - allerdings in Verbindung mit modernsten Konstruktionsmethoden mit unverkleideten Eisenkonstruktionen und riesigen Schaufensterscheiben. Seine Inspirationen suchte Dülfer beim Pariser Louvre, bei der Münchner Asamkirche, Amalienburg, bei der Dresdner Frauen- und der dortigen Hofkirche. Umgekehrt nahm sich ein ungarischer Architekt den Bau zum Vorbild für sein Versicherungsgebäude in Budapest. Die Wiederherstellung der Bernheimer-Dachzone nach Kriegszerstörungen bedeutete eine wichtige Bereicherung des historischen Stadtbildes.&lt;/p&gt; 
DTSTART:20220604T130000
DTEND:20220604T150000
LOCATION:Karlsplatz (Stachus) unter dem Karlstor
ORGANIZER:DGB-Bildungswerk Bayern e.V. Region München
END:VEVENT
END:VCALENDAR