BEGIN:VCALENDAR
VERSION:2.0
PRODID:-//Stadtgeschichte München//DE
CALSCALE:GREGORIAN
BEGIN:VEVENT
UID:21179@stadtgeschichte-muenchen.de
SUMMARY:Architekturwettstreit zwischen Leo von Klenze und Friedrich von Gärtner
DESCRIPTION:&lt;p&gt;Unter Ludwig I. hielt der Klassizismus und Neohumanismus Einzug in München. Für die aufwendige Umgestaltung Münchens zu einer weit beachteten Kunststadt setzte Ludwig I. besonders auf zwei Architekten und Stadtplaner, Leo von Klenze und Friedrich von Gärtner. Beide sind wegweisend für das heutige Stadtbild Münchens. Über Jahrzehnte haben die beiden sich gegenseitig inspiriert und angestachelt, um immer neue Baulösungen zu finden. Die jeweilige künstlerische Tätigkeit wird in diesem Spaziergang, beginnend an der Feldherrnhalle, exemplarisch entlang der Ludwigstraße erläutert. Hierbei werden die individuellen Baulösungen dieser bedeutenden Künstler betrachtet und miteinander in Beziehung gesetzt.&lt;/p&gt; &lt;p&gt;U.a. durch einen direkten Vergleich der Bauweisen in der Ludwigstraße mit dem Haslauer-Block (Klenze) und der Bayerischen Staatsbibliothek (Gärtner).&lt;/p&gt; 
DTSTART:20220416T133000
DTEND:20220416T150000
LOCATION:Siegestor
ORGANIZER:DGB-Bildungswerk Bayern e.V. Region München
END:VEVENT
END:VCALENDAR