BEGIN:VCALENDAR
VERSION:2.0
PRODID:-//Stadtgeschichte München//DE
CALSCALE:GREGORIAN
BEGIN:VEVENT
UID:21187@stadtgeschichte-muenchen.de
SUMMARY:Erdwärme-Geothermie-Grünwald in Oberhaching
DESCRIPTION:&lt;p&gt;München liegt im so genannten „nordalpinen Molassebecken“. Hier sind die Voraussetzungen für hydrothermale Geothermie sehr gut. Tief unter der Erdoberfläche befindet sich ein riesiger Vorrat an heißem Wasser, der relativ einfach angezapft werden kann, somit bietet die Nutzung von Erdwärme zur Wohnungsbeheizung eine ideale Voraussetzung. Zur Einführung sehen wir eine DVD-Projektdokumentation mit Diskussion, anschließend erfolgt ein Rundgang durch die Anlagen.&lt;/p&gt; 
DTSTART:20220321T140000
DTEND:20220321T160000
LOCATION:Informationen über den Anfahrtsweg und Treffpunkt erhalten die Teilnehmerinnen rechtzeitig vor dem Termin
ORGANIZER:DGB-Bildungswerk Bayern e.V. Region München
END:VEVENT
END:VCALENDAR