BEGIN:VCALENDAR
VERSION:2.0
PRODID:-//Stadtgeschichte München//DE
CALSCALE:GREGORIAN
BEGIN:VEVENT
UID:21189@stadtgeschichte-muenchen.de
SUMMARY:Sie haben einen Herzinfarkt und rufen die 112 — wer kommt da eigentlich?
DESCRIPTION:&lt;p&gt;Wir besichtigen im Klinikum Bogenhausen die dortige Notarztwache und sehen die Ausrüstung des dort stationierten Notarzteinsatzfahrzeugs. Sie lernen die Strukturen und die technische Ausstattung des Münchner Rettungsdienstes kennen. Selbstverständlich werden alle Fragen, die Sie zu diesem Thema immer schon mal stellen wollten, beantwortet.&lt;/p&gt; &lt;p&gt;Vortrag: Dr. Richard Fisch&lt;/p&gt; 
DTSTART:20220221T180000
DTEND:20220221T203000
LOCATION:Klinikum Bogenhausen, Haupteingang, Information im EG erreichbar mit U4 - Arabellapark
ORGANIZER:DGB-Bildungswerk Bayern e.V. Region München
END:VEVENT
END:VCALENDAR