BEGIN:VCALENDAR
VERSION:2.0
PRODID:-//Stadtgeschichte München//DE
CALSCALE:GREGORIAN
BEGIN:VEVENT
UID:21199@stadtgeschichte-muenchen.de
SUMMARY:Pracht und Macht - Adelspaläste und ihre Bewohnerinnen und Bewohner im Münchner Kreuzviert
DESCRIPTION:&lt;p&gt;Im 18. Jahrhundert ließen sich viele Adelige im sog. &quot;Kreuzviertel&quot; nahe der Residenz prächtige Stadtpalais errichten. Mit der Planung dieser sehenswerten Bauten wurden die führenden Architekten der Zeit beauftragt. Zwei der schönsten Palais baute Cuvilliés im Auftrag des Kurfürsten Karl Albrecht für dessen Mätressen. Heute residieren Banken in den Palais, die die Namen ihrer ehemaligen Bewohner tragen. Über die bemerkenswerte Geschichte der Bauten und ihrer Bewohnerinnen und Bewohner informiert Sie dieser Online-Vortrag mit virtuellem Stadtrundgang.&lt;/p&gt; 
DTSTART:20220324T173000
DTEND:20220324T190000
LOCATION:
ORGANIZER:MVHS
END:VEVENT
END:VCALENDAR