BEGIN:VCALENDAR
VERSION:2.0
PRODID:-//Stadtgeschichte München//DE
CALSCALE:GREGORIAN
BEGIN:VEVENT
UID:2120@stadtgeschichte-muenchen.de
SUMMARY:Bohrgeräte und Bagger am Luise-Kiesselbach-Platz
DESCRIPTION:&lt;p&gt;Im August 2009 starteten die Rohbauarbeiten f&amp;uuml;r die Tunnel in der Garmischer Stra&amp;szlig;e, am Luise-Kiesselbach-Platz und in der Heckenstallerstra&amp;szlig;e. In den n&amp;auml;chsten sechs Jahren werden hier &amp;uuml;ber zwei Kilometer Tunnel entstehen. Bis Ende 2017 wird im Anschluss daran die Oberfl&amp;auml;che neu gestaltet. In einem Vortrag erl&amp;auml;utern wir Ihnen die Planung und die Bauweise der Tunnel. Die anschlie&amp;szlig;ende F&amp;uuml;hrung gibt Ihnen einen Einblick in den derzeitigen Stand der Bauarbeiten.&lt;/p&gt; &lt;p&gt;Festes Schuhwerk ist erforderlich. Mindestteilnehmerzahl: 20 Personen.&lt;/p&gt;
DTSTART:20120424T180000
DTEND:20120424T200000
LOCATION:Baustellen- Infocontainer am Luise-Kiesselbach-Platz
ORGANIZER:MVHS München Mitte   
END:VEVENT
END:VCALENDAR