BEGIN:VCALENDAR
VERSION:2.0
PRODID:-//Stadtgeschichte München//DE
CALSCALE:GREGORIAN
BEGIN:VEVENT
UID:21215@stadtgeschichte-muenchen.de
SUMMARY:Nachts. Clubkultur in München
DESCRIPTION:&lt;p&gt;Die Ausstellung “Nachts. Clubkultur in München” nimmt Sie mit auf einen Streifzug durch die Münchner Nacht: Faszinierende Objekte, atmosphärische Installationen und Fotografien aus acht Jahrzehnten dokumentieren das Nachtleben von der Nachkriegszeit bis in die Gegenwart und machen die Münchner Clubkultur erlebbar. Das Kurator*innen-Team gibt Ihnen aus erster Hand Einblicke in die Entstehung der Ausstellung und kommt mit Ihnen ins Gespräch&lt;/p&gt; 
DTSTART:20220331T163000
DTEND:20220331T173000
LOCATION:Stadtmuseum
ORGANIZER:Münchner Stadtmuseum
END:VEVENT
END:VCALENDAR