BEGIN:VCALENDAR
VERSION:2.0
PRODID:-//Stadtgeschichte München//DE
CALSCALE:GREGORIAN
BEGIN:VEVENT
UID:21229@stadtgeschichte-muenchen.de
SUMMARY:Abends im Münchner Stadtmuseum - Taschenlampenführung
DESCRIPTION:&lt;p&gt;Kommt mit, wir erforschen die Schätze der Ausstellung &quot;Typisch München!&quot; des Münchner Stadtmuseums. Wir entdecken einen starken Ritter, exotische Tänzer und einen merkwürdigen Esel, hören Geschichten von verliebten Turnierreitern und Königen und erfahren, was das Oktoberfest mit einem Pferderennen zu tun hat. Mit einer Taschenlampe in der Hand ist unsere Entdeckertour besonders spannend und geheimnisvoll.&lt;/p&gt; &lt;p&gt;In Kooperation mit dem Münchner Stadtmuseum&lt;/p&gt; 
DTSTART:20220824T180000
DTEND:20220824T200000
LOCATION:Münchner Stadtmuseum, St.-Jakobs-Platz 1
ORGANIZER:MVHS
END:VEVENT
END:VCALENDAR