BEGIN:VCALENDAR
VERSION:2.0
PRODID:-//Stadtgeschichte München//DE
CALSCALE:GREGORIAN
BEGIN:VEVENT
UID:21237@stadtgeschichte-muenchen.de
SUMMARY:Bar-Legenden
DESCRIPTION:&lt;p&gt;Von außen kennen wir sie bestimmt alle: Die berühmten und alteingesessenen Münchner Bars der Innenstadt. Aber haben Sie sich schon mit ihren Spezialitäten beschäftigt? Kennen Sie die Geschichten, die hinter den verschlossenen Türen passiert sind und die besten Drinks, die Sie unbedingt einmal probieren sollten? Bei unserem Spaziergang genießen wir Ausgehluft, schwelgen in Erinnerungen und holen uns viele Inspirationen für einen nächtlichen Bummel. Führung an der frischen Luft, wir sehen die Bars von außen, gehen nicht gemeinsam hinein – das machen Sie nach der Führung auf eigene Faust und lassen den Abend bei einem Drink ausklingen.&lt;/p&gt; &lt;p&gt;&amp;nbsp;&lt;/p&gt; 
DTSTART:20220728T170000
DTEND:20220728T183000
LOCATION:Odeonsplatz
ORGANIZER:VHS SüdOst Landkreis München
END:VEVENT
END:VCALENDAR