BEGIN:VCALENDAR
VERSION:2.0
PRODID:-//Stadtgeschichte München//DE
CALSCALE:GREGORIAN
BEGIN:VEVENT
UID:2124@stadtgeschichte-muenchen.de
SUMMARY:100 Jahre Großmarkthalle
DESCRIPTION:&lt;div&gt;1912 wurde die Gro&amp;szlig;markthalle M&amp;uuml;nchen er&amp;ouml;ffnet. Die historischen Geb&amp;auml;ude sind das Kernst&amp;uuml;ck des nach Barcelona und Paris&amp;nbsp;drittgr&amp;ouml;&amp;szlig;ten europ&amp;auml;ischen Umschlagplatzes f&amp;uuml;r Obst und Gem&amp;uuml;se. Bereits 1893 wurde beim Magistrat der Stadt die Einrichtung einer&amp;nbsp;Gro&amp;szlig;markthalle nach Berliner und Pariser Vorbild eingebracht, 1910 wurde nach den Pl&amp;auml;nen des Architekten Richard Schachner mit dem&amp;nbsp;Bau begonnen. Im zweiten Weltkrieg schwer zerst&amp;ouml;rt, wurde die Anlage danach wiederaufgebaut und erweitert. Der Vortrag stellt die&amp;nbsp;Entwicklung des Gel&amp;auml;ndes in den letzten 100 Jahren dar und gibt einen Ausblick auf die k&amp;uuml;nftigen Planungen.&lt;/div&gt;
DTSTART:20120717T190000
DTEND:20120717T200000
LOCATION: Volkshochschule â€¢ Harras â€¢ Albert-Roßhaupter-Str. 8
ORGANIZER:MVHS München Mitte   
END:VEVENT
END:VCALENDAR