BEGIN:VCALENDAR
VERSION:2.0
PRODID:-//Stadtgeschichte München//DE
CALSCALE:GREGORIAN
BEGIN:VEVENT
UID:21240@stadtgeschichte-muenchen.de
SUMMARY:Mäander, Mosaik und Marathon
DESCRIPTION:&lt;p&gt;Griechenland ist überall! Zumindest in München auf dem Olympiagelände, geht ja das Ganze auf eine griechische Idee der Antike zurück. Wir erfahren, warum nur München einen Originalstein aus dem griechischen Olympia bekommen hat und kosten griechisches Gerstenbrot und Trockenfrüchte – die Sportlernahrung der Olympischen Spiele der Antike.&amp;nbsp; Und lassen uns eine Schokolade auf der Zunge zergehen, die vom wirklichen, ersten Olympiaorganisator der Neuzeit erzählt. Dabei sein ist alles – bei dieser Führung auf jeden Fall. Aber was haben die alten Griechen von diesem Motto gehalten?&lt;br /&gt; &amp;nbsp;&lt;/p&gt; 
DTSTART:20220412T110000
DTEND:20220412T123000
LOCATION:U- Olympiazentrum, Ausgang Olympisches Dorf
ORGANIZER:VHS SüdOst Landkreis München
END:VEVENT
END:VCALENDAR