BEGIN:VCALENDAR
VERSION:2.0
PRODID:-//Stadtgeschichte München//DE
CALSCALE:GREGORIAN
BEGIN:VEVENT
UID:21243@stadtgeschichte-muenchen.de
SUMMARY:Ertrunken, Erdrosselt, Erschlagen
DESCRIPTION:&lt;p&gt;Der Psychiater, der Modemacher und die Millionärin – alles drei zählen zu den spektakulärsten Kriminalfällen Bayerns der letzten 200 Jahre. Und der Sänger, der freiwillig aus dem Leben geschieden ist.&amp;nbsp;Hossa Mexikana!&amp;nbsp;An der Mauer das Grab von Kaiserin Sisis Bruder und daneben das seiner Tochter: “Jener Gräfin Larisch“. Dann noch ein Henker, ein Gastronom, ein Schriftsteller – ach - und natürlich der Gedenkstein für Kurt Eisner. Geschichte und Geschichten. Der Ostfriedhof -&amp;nbsp; ein überaus spannender Friedhof!&lt;/p&gt; 
DTSTART:20220426T160000
DTEND:20220426T180000
LOCATION:St. Martins-Platz, Zugang zum Ostfriedhof
ORGANIZER:VHS SüdOst Landkreis München
END:VEVENT
END:VCALENDAR