BEGIN:VCALENDAR
VERSION:2.0
PRODID:-//Stadtgeschichte München//DE
CALSCALE:GREGORIAN
BEGIN:VEVENT
UID:21249@stadtgeschichte-muenchen.de
SUMMARY:Zeltdachtour auf dem Olympiastadion
DESCRIPTION:&lt;p&gt;Ein unvergessliches Erlebnis bietet diese Tour entlang des Randseils des weltbekannten Olympiadaches. Nach einem Film über die Dachkonstruktion steigen Sie auf das Zeltdach und genießen die herrliche Aussicht auf Münchens Stadtkulisse und die Alpen.&lt;/p&gt; &lt;div&gt;&amp;nbsp;&lt;/div&gt; 
DTSTART:20220526T173000
DTEND:20220526T183000
LOCATION:Treffpunkt: Olympiastadion
ORGANIZER:MVHS
END:VEVENT
END:VCALENDAR