BEGIN:VCALENDAR
VERSION:2.0
PRODID:-//Stadtgeschichte München//DE
CALSCALE:GREGORIAN
BEGIN:VEVENT
UID:21260@stadtgeschichte-muenchen.de
SUMMARY:Antisemitismus in München – und im Museum?
DESCRIPTION:&lt;p&gt;Rundgang im Rahmen der „Internationalen Wochen gegen Rassismus“&lt;/p&gt; &lt;p&gt;Auch nach 1945 war München Schauplatz antisemitisch motivierter Gewaltakte und Straftaten: Dazu gehört unter anderem der Brandanschlag auf das Wohnheim der Israelitischen Kultusgemeinde 1970. Sieben Bewohnerinnen und Bewohner starben bei dem bis heute nicht aufgeklärten Terrorakt. Rechtsextremisten planten 2003 einen Sprengstoffanschlag bei der Grundsteinlegung des jüdischen Gemeindezentrums. Im kollektiven Gedächtnis der Stadt haben Ereignisse wie diese aber kaum Spuren hinterlassen. Der Rundgang durch die Dauerausstellung des Jüdischen Museums München diskutiert, womit dies zusammenhängen könnte. Er verhandelt dabei auch die Frage, wie ein Jüdisches Museum mit Antisemitismus umgehen kann und wie dieser überhaupt ausgestellt werden sollte.&lt;/p&gt; &lt;p&gt;&amp;nbsp;&lt;/p&gt; 
DTSTART:20220315T170000
DTEND:20220315T180000
LOCATION:Jüdisches Museum
ORGANIZER:Jüdisches Museum München
END:VEVENT
END:VCALENDAR