BEGIN:VCALENDAR
VERSION:2.0
PRODID:-//Stadtgeschichte München//DE
CALSCALE:GREGORIAN
BEGIN:VEVENT
UID:2127@stadtgeschichte-muenchen.de
SUMMARY:Sommervergnügen am Flaucher
DESCRIPTION:&lt;div&gt;Seit Generationen ist der wildromantische Flussabschnitt an der Isar als &amp;bdquo;M&amp;uuml;nchner Lido&amp;quot; bekannt. Ob Sonnenbaden, Gumpen-Schwimmen oder Grillen- hier findet jeder f&amp;uuml;r sich das richtige Platzerl. Der Schriftsteller Sigi Sommer, in Sendung gleich ums Eck vom Flaucher&amp;nbsp;aufgewachsen, hat viele nette Geschichten &amp;uuml;ber das sommerliche Vergn&amp;uuml;gen am Isarstrand geschrieben, wie z.B. &amp;uuml;ber die Ro&amp;szlig;gumpen,&amp;nbsp;&amp;bdquo;wo es von Badenden wurlt wie in einem Hafen voll Nudelsuppe&amp;quot;. Auf einem Stadtteilspaziergang entlang der Isar begeben wir uns&amp;nbsp;anhand literarischer Kostproben aus seinem Werk auf eine Reise durch die Badekultur fr&amp;uuml;herer Zeiten. Die Tour endet am Bad Maria&amp;nbsp;Einsiedel.&lt;/div&gt;
DTSTART:20120715T100000
DTEND:20120715T113000
LOCATION:Sigi-Sommer-Platz (Bruderhofstr./Ecke Schäftlarnstr.) 
ORGANIZER:MVHS München Mitte   
END:VEVENT
END:VCALENDAR