BEGIN:VCALENDAR
VERSION:2.0
PRODID:-//Stadtgeschichte München//DE
CALSCALE:GREGORIAN
BEGIN:VEVENT
UID:21279@stadtgeschichte-muenchen.de
SUMMARY:»Ein Zeltdach für München und die Welt«
DESCRIPTION:&lt;p&gt;Der Architekt Fritz Auer gibt exklusiv einen Einblick in seine Anfang Mai erscheinenden Erinnerungen »Ein Zeltdach für München und die Welt«. Fritz Auer war als einer der ›Olympiaarchitekten‹ im Architekturbüro Behnisch &amp;amp; Partner wesentlich mitverantwortlich für den Entwurf und die Planung des Münchner Olympiaparks mit seinen Hauptsportstätten für die XX. Olympischen Spiele. Nun gibt der Autor einen persönlichen Einblick in den architektonischen Planungsprozess des Olympiageländes.&lt;/p&gt; 
DTSTART:20220405T174500
DTEND:20220405T184500
LOCATION:Olympiaturm München, Spiridon-Louis-Ring 7, 80809 München
ORGANIZER:Allitera Verlag
END:VEVENT
END:VCALENDAR