BEGIN:VCALENDAR
VERSION:2.0
PRODID:-//Stadtgeschichte München//DE
CALSCALE:GREGORIAN
BEGIN:VEVENT
UID:21280@stadtgeschichte-muenchen.de
SUMMARY:»Der Bierkönig von München«
DESCRIPTION:&lt;p&gt;März 1914.&lt;br /&gt; An seinem 60. Geburtstag lässt der Münchner Brauereibesitzer Josef Schülein Stationen seines bewegten Lebens Revue passieren. Aus einfachen Verhältnissen stammend hat er es zu einem der erfolgreichsten Unternehmer der Stadt gebracht. Mit seinen Brauereien, Bierkellern und Gaststätten prägte Josef Schülein über Jahrzehnte Münchens Ruf als Stadt des Biers, denn nicht umsonst trug er den Spitznamen »Bierkönig von Haidhausen«. Sein soziales Engagement ist bis heute unvergessen.&lt;br /&gt; Im Anschluss an die ca. 50-minütige Lesung können Sie mit Autorin Elisabeth Schinagl ins Gespräch kommen, das Buch erwerben und vor Ort signieren lassen.&lt;/p&gt; 
DTSTART:20220410T110000
DTEND:20220410T120000
LOCATION:Kim Kino Einsteinstr. 42, 81675 München
ORGANIZER:Allitera Verlag
END:VEVENT
END:VCALENDAR