BEGIN:VCALENDAR
VERSION:2.0
PRODID:-//Stadtgeschichte München//DE
CALSCALE:GREGORIAN
BEGIN:VEVENT
UID:21290@stadtgeschichte-muenchen.de
SUMMARY:Lesung mit Ludwig Steinherr auf dem Olympiaturm
DESCRIPTION:&lt;p&gt;Ludwig Steinherr ist einer der bedeutendsten Münchner Lyriker der Gegenwart. Den typischen Klang eines Steinherr-Gedichts bezeichnet Armin Steinberger als »ein Wort, das beinahe klingt wieSteinway-Klavier, und auch voller Musikalität ist.« Lehnen Sie sich zurück und genießen Sie einen vergnüglichen, kurzweiligen Abend mit Auszügen aus dem Lyrikband »Zur Geburt einer Ming-Vase« und aus Ludwig Steinherrs erster [...]&lt;/p&gt; 
DTSTART:20220503T184500
DTEND:20220503T203000
LOCATION:Olympiaturm München, Spiridon-Louis-Ring 7, 80809 München
ORGANIZER:Allitera Verlag
END:VEVENT
END:VCALENDAR