BEGIN:VCALENDAR
VERSION:2.0
PRODID:-//Stadtgeschichte München//DE
CALSCALE:GREGORIAN
BEGIN:VEVENT
UID:21291@stadtgeschichte-muenchen.de
SUMMARY:Ein »ausgesprochen bayerischer« Abend mit Norbert Göttler und dem Duo Du&amp;I
DESCRIPTION:&lt;p&gt;Ein Abend mit Momentaufnahmen bayerischer Lebensart aus den 1950er-Jahren von Paul Ernst Rattelmüller auf dem Olympiaturm München.Wissen Sie, was man beim »Rossboinklaum« macht oder was ein »Britschhaferl« ist? Diese und nochviele weitere Mundartbegriffe hebt Bezirksheimatpfleger Norbert Göttler aus dem reichen Schatz des bairischen Dialekts. Gezeigt wird, was damals wie heute so »ausgesprochen bayerisch« ist. Das [...]&lt;/p&gt; 
DTSTART:20220518T184500
DTEND:20220518T203000
LOCATION:Olympiaturm München, Spiridon-Louis-Ring 7, 80809 München
ORGANIZER:Allitera Verlag
END:VEVENT
END:VCALENDAR