BEGIN:VCALENDAR
VERSION:2.0
PRODID:-//Stadtgeschichte München//DE
CALSCALE:GREGORIAN
BEGIN:VEVENT
UID:21310@stadtgeschichte-muenchen.de
SUMMARY:Die Residenz: ihre Höfe, ihre Gärten - mit den Nibelungensälen im Königsbau
DESCRIPTION:Die Residenz ist einer der großen Herrschersitze Europas. Ein Rundgang durch ihre Höfe und Gärten lässt die spannende Baugeschichte, höfischen Zeremonien und amüsanten Vergnügungen des Adels lebendig werden. Die Nibelungensäle wurden im Auftrag König Ludwigs I. nach Entwürfen des Hofarchitekten Leo von Klenze gestaltet. Die monumentalen Wand- und Deckenbilder von Julius Schnorr von Carolsfeld zeigen detailreich Szenen des Nibelungenlieds, das deutsche Nationalepos im 19. Jahrhundert. 
DTSTART:20220618T140000
DTEND:20220618T160000
LOCATION:Residenzmodell am Max-Joseph-Platz
ORGANIZER:MVHS
END:VEVENT
END:VCALENDAR