BEGIN:VCALENDAR
VERSION:2.0
PRODID:-//Stadtgeschichte München//DE
CALSCALE:GREGORIAN
BEGIN:VEVENT
UID:21322@stadtgeschichte-muenchen.de
SUMMARY:Eine Zeitreise für Kinder
DESCRIPTION:Wie ging es damals zu hinter den alten Mauern der Residenz? Wir entdecken, was lange geheimnisvoll war
DTSTART:20220616T140000
DTEND:20220616T153000
LOCATION:
ORGANIZER:Bayerische Schlösserverwaltung
END:VEVENT
END:VCALENDAR