BEGIN:VCALENDAR
VERSION:2.0
PRODID:-//Stadtgeschichte München//DE
CALSCALE:GREGORIAN
BEGIN:VEVENT
UID:21328@stadtgeschichte-muenchen.de
SUMMARY:Benimm dich: Höfische Etikette, Manieren und Überraschungen
DESCRIPTION:
DTSTART:20220724T140000
DTEND:20220724T000015
LOCATION:
ORGANIZER:Bayerische Schlösserverwaltung
END:VEVENT
END:VCALENDAR