BEGIN:VCALENDAR
VERSION:2.0
PRODID:-//Stadtgeschichte München//DE
CALSCALE:GREGORIAN
BEGIN:VEVENT
UID:2133@stadtgeschichte-muenchen.de
SUMMARY:Geheimnisse des Herbststernenhimmels
DESCRIPTION:&lt;div&gt;Die Sternwarte ist eine der Sondereinrichtungen des Erasmus-Grasser-Gymnasiums. Bei einem Besuch f&amp;uuml;hrt ein bilderreicher Vortrag Sie&amp;nbsp;in die Geheimnisse des Herbststernenhimmels ein. Sie lernen neben den bedeutendsten Sternbildern auch das derzeitige &amp;bdquo;Highlight&amp;quot; am&amp;nbsp;Himmel kennen: den gro&amp;szlig;en Kugelsternhaufen im Herkules mit seinen hunderttausenden von Sternen. Bei g&amp;uuml;nstiger Witterung besteht&amp;nbsp;nach dem Vortrag die M&amp;ouml;glichkeit, von der Schulsternwarte aus den Sternenhimmel &amp;uuml;ber dem Westpark zu beobachten.&lt;/div&gt;
DTSTART:20120925T200000
DTEND:20120925T220000
LOCATION:Erasmus-Grasser-Gymnasium - Eingang zur Schulsternwarte über die Westend-/Gilmstr.: Friedrich-Brugger-Weg 
ORGANIZER:MVHS München Mitte   
END:VEVENT
END:VCALENDAR