BEGIN:VCALENDAR
VERSION:2.0
PRODID:-//Stadtgeschichte München//DE
CALSCALE:GREGORIAN
BEGIN:VEVENT
UID:21336@stadtgeschichte-muenchen.de
SUMMARY:Von Giesing nach Giesing
DESCRIPTION:&lt;p&gt;Die vormals eigenständige Gemeinde Giesing verändert sich, wie sich ganz München verändert zu ... ja was eigentlich, zum Invom Arbeiterviertel Viertel, zum zentral, komfortablem Wohngebiet, zum Standort für Unternehmenszentralen, zum grünen Quartier. Bei aller Veränderung bleibt Giesing doch etwas Besonderes mit Löwen, einem Stachus, einer grünen Spitze, Geschichte und Geschichten. Die Route geht entlang einiger Orte der Veränderung wie u.a. Weißenseepark, PöllatPavillion, Scharfreiterplatz und McGrawKaserne.&lt;/p&gt; 
DTSTART:20220605T150000
DTEND:20220605T170000
LOCATION:Tegernseerplatz
ORGANIZER:Münchner Forum
END:VEVENT
END:VCALENDAR