BEGIN:VCALENDAR
VERSION:2.0
PRODID:-//Stadtgeschichte München//DE
CALSCALE:GREGORIAN
BEGIN:VEVENT
UID:2135@stadtgeschichte-muenchen.de
SUMMARY:Die Isartalbahn - von der Eisenbahn zum Rad- und Wanderweg
DESCRIPTION:&lt;p&gt;Vor fast 50 Jahren wurde die Isartalbahn eingestellt, weil die notwendig gewordene Unterführung von einigen stark befahrenen Straßen&amp;nbsp;zu kostspielig erschien. Die Bahn fuhr vom Thalkirchner Bahnhof über Thalkirchen, die Prinz-Ludwigshöhe, Pullach und Großhesselohe&amp;nbsp;nach Höllriegelskreuth durch eine idyllische Waldlandschaft an vielen interessanten Villen vorbei. Heute wäre diese Bahn eine&amp;nbsp;willkommene Verbindung ins Isartal, eine Touristenattraktion. Die alte Trasse wurde inzwischen als Rad- und Wanderweg ausgebaut, an&amp;nbsp;dem aber noch viele Reste an diese fast vergessene Eisenbahnlinie erinnern. Kommen Sie mit uns auf eine historische Spurensuche.&lt;/p&gt; 
DTSTART:20120721T140000
DTEND:20120721T163000
LOCATION:U-Bahnhaltestelle Thalkirchen (U3), Ausgang Schäftlarnstr.
ORGANIZER:MVHS München Süd
END:VEVENT
END:VCALENDAR