BEGIN:VCALENDAR
VERSION:2.0
PRODID:-//Stadtgeschichte München//DE
CALSCALE:GREGORIAN
BEGIN:VEVENT
UID:21359@stadtgeschichte-muenchen.de
SUMMARY:Arbeiten für Olympia- Eine thematische Führung mit Gesprächen
DESCRIPTION:&lt;p&gt;Arbeiten für Olympia- Eine thematische Führung mit Gesprächen&lt;br /&gt; Eine Veranstaltung des Archivs der Münchner Arbeiterbewegung e.V.&amp;nbsp; mit Förderung des Kulturreferates München und des Bezirks Oberbayern&lt;br /&gt; &lt;br /&gt; Wer betreute die Gäste und wie?&lt;br /&gt; Olympische Spiele verursachen und bedeuten auch viel Arbeit. Jenseits des Glamours zum Beispiel für die damaligen Münchner Olympia-Hostessen. Neben den geforderten beruflichen Voraussetzungen musste eine umfangreiche und anspruchsvolle Ausbildung durchlaufen werden.&amp;nbsp;&lt;/p&gt; &lt;p&gt;Dr. Elisabeth Jüngling, Historikerin, Übersetzerin, mit langjähriger Tätigkeit im beruflichen Schulwesen, berichtet über ihre Zeit, Ausbildung und Arbeit als Olympia Hostess 1972 in der Leitzentrale.&lt;br /&gt; &lt;br /&gt; Wer brachte die Fahne nach Montreal?&lt;br /&gt; Heinz Riederer, Stadtrat (1972-1978), Mitglied im U-Bahn- und Sportausschuss und Verwaltungsbeirat im Sportamt der Stadt München, überführte 1976 mit der Münchner Stadtratsdelegation unter Leitung des Oberbürgermeister Georg Kronawitter die in München seit den Olympischen Spielen 1972 aufbewahrte Fahne der Olympischen Spiele nach Montreal. Dort wurde sie im Stadion dann von OB Kronawitter übergeben.&lt;br /&gt; Er berichtet von den Olympischen Spielen 1972 und von Reise und Übergabe der Fahne in Montreal 1976.&lt;br /&gt; Beispiele seiner fotografischen Arbeiten und Dokumentation zur Übergabe werden im&amp;nbsp;&lt;strong&gt;Stadtteilprojekt 50 Jahre Olympische Spiele München 1972 und dem dazugehörigen&lt;/strong&gt;&amp;nbsp;&lt;strong&gt;Fotoband&lt;/strong&gt;&amp;nbsp;in den Fenstern der Stadtsparkasse des Olympischen Dorfes im Zeitraum ab 13. Mai bis Ende Juli 2022 präsentiert.&lt;/p&gt; &lt;p&gt;Termin: Sonntag 12. Juni 2022, 15 Uhr&lt;br /&gt; Dauer: 15.00-16.30 Uhr&lt;br /&gt; Treffpunkt: U-Bahnhaltestelle Olympiazentrum, Ausgang Olympiadorf&lt;/p&gt; &lt;p&gt;Begrüßung: Prof. Dr. Ludwig Eiber, Archiv der Münchner Arbeiterbewegung &amp;nbsp;&amp;nbsp;&amp;nbsp;&amp;nbsp;&amp;nbsp;&amp;nbsp;&amp;nbsp;&amp;nbsp;&amp;nbsp;&amp;nbsp;&amp;nbsp;&amp;nbsp;&amp;nbsp;&amp;nbsp;&amp;nbsp;&amp;nbsp;&amp;nbsp;&amp;nbsp;&amp;nbsp;&amp;nbsp;&amp;nbsp;&amp;nbsp;&amp;nbsp;&amp;nbsp;&amp;nbsp;&amp;nbsp;&amp;nbsp;&amp;nbsp;&amp;nbsp;&amp;nbsp;&amp;nbsp;&amp;nbsp;&amp;nbsp;&amp;nbsp;&amp;nbsp;&amp;nbsp;&amp;nbsp;&amp;nbsp;&amp;nbsp;&amp;nbsp;&amp;nbsp;&amp;nbsp;&amp;nbsp;&amp;nbsp;&amp;nbsp;&amp;nbsp;&amp;nbsp;&amp;nbsp;&amp;nbsp;&amp;nbsp;&amp;nbsp;&amp;nbsp;&amp;nbsp;&amp;nbsp;&amp;nbsp;&amp;nbsp;&amp;nbsp;&amp;nbsp;&amp;nbsp;&amp;nbsp;&amp;nbsp;&amp;nbsp;&amp;nbsp;&amp;nbsp;&amp;nbsp;&amp;nbsp;&amp;nbsp;&amp;nbsp;&amp;nbsp;&amp;nbsp;&amp;nbsp;&amp;nbsp;&amp;nbsp;&amp;nbsp;&amp;nbsp;&amp;nbsp;&lt;/p&gt; &lt;p&gt;Arbeiten für Olympia- Eine thematische Führung mit Gesprächen&lt;br /&gt; Eine Veranstaltung des Archivs der Münchner Arbeiterbewegung e.V.&amp;nbsp; mit Förderung des Kulturreferates München und des Bezirks Oberbayern&lt;br /&gt; &lt;br /&gt; Wer betreute die Gäste und wie?&lt;br /&gt; Olympische Spiele verursachen und bedeuten auch viel Arbeit. Jenseits des Glamours zum Beispiel für die damaligen Münchner Olympia-Hostessen. Neben den geforderten beruflichen Voraussetzungen musste eine umfangreiche und anspruchsvolle Ausbildung durchlaufen werden.&amp;nbsp;&lt;/p&gt; &lt;p&gt;Dr. Elisabeth Jüngling, Historikerin, Übersetzerin, mit langjähriger Tätigkeit im beruflichen Schulwesen, berichtet über ihre Zeit, Ausbildung und Arbeit als Olympia Hostess 1972 in der Leitzentrale.&lt;br /&gt; &lt;br /&gt; Wer brachte die Fahne nach Montreal?&lt;br /&gt; Heinz Riederer, Stadtrat (1972-1978), Mitglied im U-Bahn- und Sportausschuss und Verwaltungsbeirat im Sportamt der Stadt München, überführte 1976 mit der Münchner Stadtratsdelegation unter Leitung des Oberbürgermeister Georg Kronawitter die in München seit den Olympischen Spielen 1972 aufbewahrte Fahne der Olympischen Spiele nach Montreal. Dort wurde sie im Stadion dann von OB Kronawitter übergeben.&lt;br /&gt; Er berichtet von den Olympischen Spielen 1972 und von Reise und Übergabe der Fahne in Montreal 1976.&lt;br /&gt; Beispiele seiner fotografischen Arbeiten und Dokumentation zur Übergabe werden im&amp;nbsp;&lt;strong&gt;Stadtteilprojekt 50 Jahre Olympische Spiele München 1972 und dem dazugehörigen&lt;/strong&gt;&amp;nbsp;&lt;strong&gt;Fotoband&lt;/strong&gt;&amp;nbsp;in den Fenstern der Stadtsparkasse des Olympischen Dorfes im Zeitraum ab 13. Mai bis Ende Juli 2022 präsentiert.&lt;/p&gt; &lt;p&gt;Termin: Sonntag 12. Juni 2022, 15 Uhr&lt;br /&gt; Dauer: 15.00-16.30 Uhr&lt;br /&gt; Treffpunkt: U-Bahnhaltestelle Olympiazentrum, Ausgang Olympiadorf&lt;/p&gt; &lt;p&gt;Begrüßung: Prof. Dr. Ludwig Eiber, Archiv der Münchner Arbeiterbewegung &amp;nbsp;&amp;nbsp;&amp;nbsp;&amp;nbsp;&amp;nbsp;&amp;nbsp;&amp;nbsp;&amp;nbsp;&amp;nbsp;&amp;nbsp;&amp;nbsp;&amp;nbsp;&amp;nbsp;&amp;nbsp;&amp;nbsp;&amp;nbsp;&amp;nbsp;&amp;nbsp;&amp;nbsp;&amp;nbsp;&amp;nbsp;&amp;nbsp;&amp;nbsp;&amp;nbsp;&amp;nbsp;&amp;nbsp;&amp;nbsp;&amp;nbsp;&amp;nbsp;&amp;nbsp;&amp;nbsp;&amp;nbsp;&amp;nbsp;&amp;nbsp;&amp;nbsp;&amp;nbsp;&amp;nbsp;&amp;nbsp;&amp;nbsp;&amp;nbsp;&amp;nbsp;&amp;nbsp;&amp;nbsp;&amp;nbsp;&amp;nbsp;&amp;nbsp;&amp;nbsp;&amp;nbsp;&amp;nbsp;&amp;nbsp;&amp;nbsp;&amp;nbsp;&amp;nbsp;&amp;nbsp;&amp;nbsp;&amp;nbsp;&amp;nbsp;&amp;nbsp;&amp;nbsp;&amp;nbsp;&amp;nbsp;&amp;nbsp;&amp;nbsp;&amp;nbsp;&amp;nbsp;&amp;nbsp;&amp;nbsp;&amp;nbsp;&amp;nbsp;&amp;nbsp;&amp;nbsp;&amp;nbsp;&amp;nbsp;&amp;nbsp;&amp;nbsp;&amp;nbsp;&amp;nbsp;&lt;/p&gt; &lt;p&gt;Führung und Moderation: &amp;nbsp;Jo Walz, EIG, Kulturforum Olympiadorf,&amp;nbsp;&amp;nbsp; Olympiadorf Photo Projekt&lt;/p&gt; &lt;p&gt;Führung und Moderation: &amp;nbsp;Jo Walz, EIG, Kulturforum Olympiadorf,&amp;nbsp;&amp;nbsp; Olympiadorf Photo Projekt&lt;/p&gt; 
DTSTART:20220612T150000
DTEND:20220612T000016
LOCATION:U-Bahnhaltestelle Olympiazentrum, Ausgang Olympiadorf
ORGANIZER:Archiv der Münchner Arbeiterbewegung e.V.
END:VEVENT
END:VCALENDAR