BEGIN:VCALENDAR
VERSION:2.0
PRODID:-//Stadtgeschichte München//DE
CALSCALE:GREGORIAN
BEGIN:VEVENT
UID:21364@stadtgeschichte-muenchen.de
SUMMARY:LMU-Universitätsarchiv
DESCRIPTION:&lt;p&gt;Die Leiterin Dr. Susanne Wanninger stellt das Universitätsarchiv und seine Bestände vor. Sie wird an Beispielen zeigen, wie das Archiv für biografische Arbeiten genutzt werden kann.&lt;/p&gt; 
DTSTART:20221108T180000
DTEND:20221108T193000
LOCATION:Universitätsarchiv Edmund-Rumpler-Straße 9, 2. Obergeschoss 80939 München
ORGANIZER:ErinnerungsWerkstatt München e.V.
END:VEVENT
END:VCALENDAR