BEGIN:VCALENDAR
VERSION:2.0
PRODID:-//Stadtgeschichte München//DE
CALSCALE:GREGORIAN
BEGIN:VEVENT
UID:21382@stadtgeschichte-muenchen.de
SUMMARY:Die Sammlung Reuschel: Vom Entwurf zur Ausführung
DESCRIPTION:&lt;p&gt;Im Bayerischen Nationalmuseum in München sind die barocken Ölskizzen der Sammlung Reuschel ausgestellt, die sich im Eigentum der Reuschel-Stiftung befinden. Die Kollektion vereint 60 bedeutende kleinformatige Entwürfe für Deckenfresken und Altarbilder, die sich auf die 1740er bis 1780er Jahre datieren lassen. Der besondere Reiz der Sammlung besteht darin, durch den oftmals unfertigen Zustand der Ölskizze Einblicke in die Arbeitsweise des Künstlers zu erhalten.&lt;br /&gt; Referentin: Dr. Astrid Scherp-Langen&lt;/p&gt; 
DTSTART:20220707T180000
DTEND:20220707T190000
LOCATION:Bayerisches Nationalmuseum
ORGANIZER:Reuschel-Stiftung
END:VEVENT
END:VCALENDAR