BEGIN:VCALENDAR
VERSION:2.0
PRODID:-//Stadtgeschichte München//DE
CALSCALE:GREGORIAN
BEGIN:VEVENT
UID:21386@stadtgeschichte-muenchen.de
SUMMARY:Von der Betonwüste zum Künstlertreff!
DESCRIPTION:&lt;p&gt;In der Zwischennutzung Hebenstreitstraße 2 beginnt der Spaziergang und führt zuerst zu den verschiedenen Jurten und dem kleinen Skulpturenpark. Weiter geht die Führung dann zum „Halt 58“. Dort können die Brückengalerie und die verschiedenen Skulpturen bewundert werden. Interessierte erfahren Wissenswertes über die S-Bahn-Attrappe, und die Mosaiken werden vorgestellt. Auch wird die Legende der ehemaligen Bushaltestelle den Besucher*innen nahegebracht. Es kann das Kunstforum HMP besucht werden.&lt;/p&gt; 
DTSTART:20220710T160000
DTEND:20220710T173000
LOCATION:Hebenstreitstraße 2
ORGANIZER:
END:VEVENT
END:VCALENDAR