BEGIN:VCALENDAR
VERSION:2.0
PRODID:-//Stadtgeschichte München//DE
CALSCALE:GREGORIAN
BEGIN:VEVENT
UID:21424@stadtgeschichte-muenchen.de
SUMMARY: &quot;Aktuelles im Viertel&quot;: Allach, früher, heute und zukünftig
DESCRIPTION:&lt;p&gt;Von dem ehemaligen kleinen Straßendorf an der Würm hat sich Allach zum modernen Stadtviertel gewandelt. Wir laden alle alt eingesessenen Allacher genauso wie alle neu zugezogenen Menschen zu einem Austausch über ihr Viertel ein. Kommen Sie in gemütlicher Runde ins Gespräch über die (guten) alten Zeiten sowie über Ihre aktuellen Erwartungen und Wünsche an ihren Allacher Alltag.&lt;/p&gt; &lt;p&gt;Die Veranstaltung findet in Kooperation mit dem Alten- und Service-Zentrum Allach-Untermenzing statt.&lt;/p&gt; 
DTSTART:20220721T100000
DTEND:20220721T000011
LOCATION:Volkshochschule, Oertelplatz 11
ORGANIZER:MVHS
END:VEVENT
END:VCALENDAR