BEGIN:VCALENDAR
VERSION:2.0
PRODID:-//Stadtgeschichte München//DE
CALSCALE:GREGORIAN
BEGIN:VEVENT
UID:21432@stadtgeschichte-muenchen.de
SUMMARY:München 72. Mode, Menschen, Musik
DESCRIPTION:&lt;p&gt;Freuen Sie sich auf einen Ausstellungsbesuch, der Einblick in die Ausstellung &quot;München \'72. Mode, Menschen und Musik&quot; gibt. Gemeinsam entdecken wir Visionäres und Provokatives aus den Sammlungen Mode und Musik, sehen neu gesammelte Erinnerungsstücke und hören bisher nicht erzählte Geschichten. Auf der anschließenden Erkundungstour streifen wir Stationen der Ausstellung &quot;Olympische Spurensuche&quot;, die Ereignisse und infrastrukturelle Maßnahmen in Erinnerung rufen, die mit den Spielen in Zusammenhang stehen und die Stadt teilweise nachhaltig verändert haben. Lassen Sie sich überraschen!&lt;/p&gt; &lt;p&gt;In Kooperation mit dem Münchner Stadtmuseum&lt;/p&gt; 
DTSTART:20220813T163000
DTEND:20220813T183000
LOCATION:Münchner Stadtmuseum, St.-Jakobs-Platz 1
ORGANIZER:MVHS
END:VEVENT
END:VCALENDAR