BEGIN:VCALENDAR
VERSION:2.0
PRODID:-//Stadtgeschichte München//DE
CALSCALE:GREGORIAN
BEGIN:VEVENT
UID:21456@stadtgeschichte-muenchen.de
SUMMARY:Stadt an der Isar und Isarinseln
DESCRIPTION:&lt;div style=&quot;background:transparent; border:0px; padding:0px 15px&quot;&gt; &lt;p&gt;An den Ufern der Isar sind zwei große Kirchen, interessante Brücken, ein Jugendstilbad, ein Kulturzentrum mit Konzertsaal, ein Internat für begabte Landessöhne, Denkmäler und ein Brunnen aus Strassburg, ein riesiges, weltweit berühmtes Museum zu finden. Auf einer der Isar-Inseln befand sich einst ein Ausflugsrestaurant (heute ebenfalls ein Museum). Den Münchnern kaum bekannt ist die romantische Schwind-Insel. Wenig beachtet wird eine romantische Gartenanlage, die früher eindrucksvolle Aussichtsplätze über die Münchner Stadtsilhouette geboten hat. Vieles davon sehen wir auf unserem Rundgang, der sich mit Möglichkeiten einer stärkeren Integration der Flusslandschaft ins Stadtbild beschäftigen wird.&lt;/p&gt; &lt;p&gt;&amp;nbsp;&lt;/p&gt; &lt;/div&gt; 
DTSTART:20220903T100000
DTEND:20220903T120000
LOCATION:Lukaskirche (St. Lukas), Haupteingang
ORGANIZER:DGB-Bildungswerk Bayern e.V. Region München
END:VEVENT
END:VCALENDAR