BEGIN:VCALENDAR
VERSION:2.0
PRODID:-//Stadtgeschichte München//DE
CALSCALE:GREGORIAN
BEGIN:VEVENT
UID:21466@stadtgeschichte-muenchen.de
SUMMARY:Bomber und Bomben - Zur Geschichte des Dornierwerks Neuaubing in der NS-Zeit
DESCRIPTION:&lt;div style=&quot;background:transparent; border:0px; padding:0px 15px&quot;&gt; &lt;p&gt;Mit der Firma Dornier siedelte sich in den 1930er Jahren einer der größten Flugzeugbauer Deutschlands in Neuaubing an. Als &quot;Kriegsmusterbetrieb&quot; war man maßgeblich am Aufbau der Luftwaffe beteiligt. An der Serienproduktion von Kampfflugzeugen waren neben der deutschen Belegschaft auch zahlreiche Zwangsarbeiter aus vielen europäischen Ländern beteiligt. Dieser Vortrag mit Bildpräsentation zeigt in einem virtuellen Rundgang das historische Firmengelände sowie noch bis in jüngste Zeit erhaltene Relikte und rekonstruiert anhand von Zeitzeugenberichten und Dokumenten die Geschichte des Werks in der NS-Zeit.&lt;/p&gt; &lt;p&gt;&amp;nbsp;&lt;/p&gt; &lt;/div&gt; 
DTSTART:20220916T190000
DTEND:20220916T203000
LOCATION:Eine-Welt-Haus, Schwanthalerstr. 80 RGB, Raum U20
ORGANIZER:DGB-Bildungswerk Bayern e.V. Region München
END:VEVENT
END:VCALENDAR