BEGIN:VCALENDAR
VERSION:2.0
PRODID:-//Stadtgeschichte München//DE
CALSCALE:GREGORIAN
BEGIN:VEVENT
UID:21487@stadtgeschichte-muenchen.de
SUMMARY:Unser Weg führte nach Dachau I
DESCRIPTION:&lt;p&gt;&lt;strong&gt;In Ergänzung zu diesem Vortrag bieten wir die Führung durch die KZ-Gedenkstätte unter dieser spezifischen Perspektive an: Kursnummer B124-22/2 am 15.10.2022&lt;/strong&gt;&lt;/p&gt; 
DTSTART:20221010T190000
DTEND:20221010T203000
LOCATION:Eine-Welt-Haus, Schwanthalerstr. 80 RGB, Raum U20
ORGANIZER:DGB-Bildungswerk Bayern e.V. Region München
END:VEVENT
END:VCALENDAR